BEGIN:VCALENDAR
VERSION:2.0
PRODID:spatie/icalendar-generator
DESCRIPTION:Events from St. Joseph County COA
X-WR-CALDESC:Events from St. Joseph County COA
REFRESH-INTERVAL;VALUE=DURATION:PT1440M
X-PUBLISHED-TTL:PT1440M
BEGIN:VTIMEZONE
TZID:America/Detroit
BEGIN:STANDARD
DTSTART:20251102T020000Z
TZOFFSETFROM:-0400
TZOFFSETTO:-0500
END:STANDARD
BEGIN:DAYLIGHT
DTSTART:20260308T020000Z
TZOFFSETFROM:-0500
TZOFFSETTO:-0400
END:DAYLIGHT
END:VTIMEZONE
BEGIN:VTIMEZONE
TZID:UTC
BEGIN:STANDARD
DTSTART:20250724T032210Z
TZOFFSETFROM:+0000
TZOFFSETTO:+0000
END:STANDARD
END:VTIMEZONE
BEGIN:VEVENT
UID:10774-29
DTSTAMP:20260420T032210Z
SUMMARY:Boards and Bagels
LOCATION:Oaks Enrichment Center 306 N. Franks Ave  Sturgis MI 49091
ORGANIZER;CN=Admin:MAILTO:chad@geekgeni.us
RRULE:FREQ=WEEKLY;UNTIL=20350301T000000Z
DTSTART;TZID=America/Detroit:20260428T100000
DTEND;TZID=America/Detroit:20260428T120000
X-ALT-DESC;FMTTYPE=TEXT/HTML:Join us at the Oaks Enrichment Center on Tuesd
 ays from 10 a.m. to Noon as we play board games in front of the fire while
  enjoying each other's friendship. We'll provide bagels and coffee. We'll 
 have a wide assortment of board games to play.
CATEGORIES:General
URL;VALUE=URI:https://sjccoa.com/mc-events/boards-and-bagels/?mc_id=10774
METHOD:PUBLISH
END:VEVENT
END:VCALENDAR