BEGIN:VCALENDAR
VERSION:2.0
PRODID:spatie/icalendar-generator
DESCRIPTION:Events from St. Joseph County COA
X-WR-CALDESC:Events from St. Joseph County COA
REFRESH-INTERVAL;VALUE=DURATION:PT1440M
X-PUBLISHED-TTL:PT1440M
BEGIN:VTIMEZONE
TZID:America/Detroit
BEGIN:STANDARD
DTSTART:20251102T020000Z
TZOFFSETFROM:-0400
TZOFFSETTO:-0500
END:STANDARD
BEGIN:DAYLIGHT
DTSTART:20260308T020000Z
TZOFFSETFROM:-0500
TZOFFSETTO:-0400
END:DAYLIGHT
END:VTIMEZONE
BEGIN:VTIMEZONE
TZID:UTC
BEGIN:STANDARD
DTSTART:20250728T030210Z
TZOFFSETFROM:+0000
TZOFFSETTO:+0000
END:STANDARD
END:VTIMEZONE
BEGIN:VEVENT
UID:3767-11
DTSTAMP:20260424T030210Z
SUMMARY:Mah Jongg for Beginners
LOCATION:Rivers Enrichment Center 1200 W Broadway St.  Three Rivers MI 4909
 3
ORGANIZER;CN=Admin:MAILTO:chad@geekgeni.us
RRULE:FREQ=WEEKLY;UNTIL=20350301T000000Z
DTSTART;TZID=America/Detroit:20260424T130000
DTEND;TZID=America/Detroit:20260424T160000
X-ALT-DESC;FMTTYPE=TEXT/HTML:If you are new to playing Mah Jongg\, consider
  joining our Friday afternoon group. All levels are welcome! The group mee
 ts on Fridays at 1 p.m.
CATEGORIES:General
URL;VALUE=URI:https://sjccoa.com/mc-events/mah-jongg-for-beginners/?mc_id=3
 767
METHOD:PUBLISH
END:VEVENT
END:VCALENDAR