BEGIN:VCALENDAR
VERSION:2.0
PRODID:spatie/icalendar-generator
DESCRIPTION:Events from St. Joseph County COA
X-WR-CALDESC:Events from St. Joseph County COA
REFRESH-INTERVAL;VALUE=DURATION:PT1440M
X-PUBLISHED-TTL:PT1440M
BEGIN:VTIMEZONE
TZID:America/Detroit
BEGIN:STANDARD
DTSTART:20251102T020000Z
TZOFFSETFROM:-0400
TZOFFSETTO:-0500
END:STANDARD
BEGIN:DAYLIGHT
DTSTART:20260308T020000Z
TZOFFSETFROM:-0500
TZOFFSETTO:-0400
END:DAYLIGHT
END:VTIMEZONE
BEGIN:VTIMEZONE
TZID:UTC
BEGIN:STANDARD
DTSTART:20250726T071129Z
TZOFFSETFROM:+0000
TZOFFSETTO:+0000
END:STANDARD
END:VTIMEZONE
BEGIN:VEVENT
UID:7154-19
DTSTAMP:20260422T071129Z
SUMMARY:Tech Time
LOCATION:Rivers Enrichment Center 1200 W Broadway St.  Three Rivers MI 4909
 3
ORGANIZER;CN=Admin:MAILTO:chad@geekgeni.us
RRULE:FREQ=MONTHLY;BYDAY=3MO;UNTIL=20350301T000000Z
DTSTART;TZID=America/Detroit:20260316T100000
DTEND;TZID=America/Detroit:20260316T120000
X-ALT-DESC;FMTTYPE=TEXT/HTML:A volunteer will be at the Rivers Enrichment C
 enter on the third Monday of each month to answer basic questions about yo
 ur smart phone\, tablet\, or computer. Please call the COA at 279-8083 to 
 schedule an appointment time.
CATEGORIES:General
URL;VALUE=URI:https://sjccoa.com/mc-events/tech-time/?mc_id=7154
METHOD:PUBLISH
END:VEVENT
END:VCALENDAR